BEGIN:VCALENDAR
VERSION:2.0
PRODID:-//Trendjournal - ECPv6.15.20//NONSGML v1.0//EN
CALSCALE:GREGORIAN
METHOD:PUBLISH
X-WR-CALNAME:Trendjournal
X-ORIGINAL-URL:https://trendjournal.de
X-WR-CALDESC:Veranstaltungen für Trendjournal
REFRESH-INTERVAL;VALUE=DURATION:PT1H
X-Robots-Tag:noindex
X-PUBLISHED-TTL:PT1H
BEGIN:VTIMEZONE
TZID:Europe/Paris
BEGIN:DAYLIGHT
TZOFFSETFROM:+0100
TZOFFSETTO:+0200
TZNAME:CEST
DTSTART:20250330T010000
END:DAYLIGHT
BEGIN:STANDARD
TZOFFSETFROM:+0200
TZOFFSETTO:+0100
TZNAME:CET
DTSTART:20251026T010000
END:STANDARD
BEGIN:DAYLIGHT
TZOFFSETFROM:+0100
TZOFFSETTO:+0200
TZNAME:CEST
DTSTART:20260329T010000
END:DAYLIGHT
BEGIN:STANDARD
TZOFFSETFROM:+0200
TZOFFSETTO:+0100
TZNAME:CET
DTSTART:20261025T010000
END:STANDARD
BEGIN:DAYLIGHT
TZOFFSETFROM:+0100
TZOFFSETTO:+0200
TZNAME:CEST
DTSTART:20270328T010000
END:DAYLIGHT
BEGIN:STANDARD
TZOFFSETFROM:+0200
TZOFFSETTO:+0100
TZNAME:CET
DTSTART:20271031T010000
END:STANDARD
END:VTIMEZONE
BEGIN:VEVENT
DTSTART;TZID=Europe/Paris:20260424T200000
DTEND;TZID=Europe/Paris:20260424T223000
DTSTAMP:20260424T124143
CREATED:20250314T110630Z
LAST-MODIFIED:20250314T110807Z
UID:24827-1777060800-1777069800@trendjournal.de
SUMMARY:TINA – The Rock Legend: Die Tribute-Show für die Queen of Rock
DESCRIPTION:Erlebt die unvergleichliche Energie und Leidenschaft von Tina Turner in einer mitreißenden Tribute-Show\, die ihre größten Hits\, ihre ikonische Bühnenpräsenz und ihr einzigartiges Lebenswerk feiert. „TINA – The Rock Legend“ bringt die Faszination der Queen of Rock zurück auf die Bühne – mit einer herausragenden Sängerin\, talentierten Musikern und einer beeindruckenden Live-Performance. \nVon den ersten Erfolgen mit „Nutbush City Limits“ bis zu Welthits wie „Simply The Best“\, „Private Dancer“ und „What’s Love Got to Do with It“ – die Show nimmt euch mit auf eine musikalische Zeitreise durch die legendäre Karriere von Tina Turner. Das Ensemble aus erstklassigen Sängern\, Musikern und Tänzern bringt ihre mitreißenden Songs mit kraftvoller Live-Musik und einer spektakulären Bühneninszenierung zum Leben. \nMit einer Mischung aus Rock\, Soul und unbändiger Energie bleibt Tina Turner unvergessen – und „TINA – The Rock Legend“ ist die perfekte Hommage an diese außergewöhnliche Künstlerin. Erlebt eine Show voller Emotionen\, Power und unvergesslicher Hits – ein Muss für alle Fans der Queen of Rock! \nMehr Infos zu dem Event findest du auf der Webseite des Veranstalters resetproduction
URL:https://trendjournal.de/event/tina-the-rock-legend-die-tribute-show-fuer-die-queen-of-rock-2/
LOCATION:Phoenix Contact Arena Lemgo\, Bunsensraße 39\, Lemgo\, Nordrhein-Westfalen\, 32657\, Germany
CATEGORIES:Deutschlandweit
ATTACH;FMTTYPE=image/webp:https://trendjournal.de/wp-content/uploads/2025/03/tina-Veranstaltungskalender.webp
END:VEVENT
END:VCALENDAR