BEGIN:VCALENDAR
VERSION:2.0
PRODID:-//Trendjournal - ECPv6.15.20//NONSGML v1.0//EN
CALSCALE:GREGORIAN
METHOD:PUBLISH
X-WR-CALNAME:Trendjournal
X-ORIGINAL-URL:https://trendjournal.de
X-WR-CALDESC:Veranstaltungen für Trendjournal
REFRESH-INTERVAL;VALUE=DURATION:PT1H
X-Robots-Tag:noindex
X-PUBLISHED-TTL:PT1H
BEGIN:VTIMEZONE
TZID:Europe/Paris
BEGIN:DAYLIGHT
TZOFFSETFROM:+0100
TZOFFSETTO:+0200
TZNAME:CEST
DTSTART:20240331T010000
END:DAYLIGHT
BEGIN:STANDARD
TZOFFSETFROM:+0200
TZOFFSETTO:+0100
TZNAME:CET
DTSTART:20241027T010000
END:STANDARD
BEGIN:DAYLIGHT
TZOFFSETFROM:+0100
TZOFFSETTO:+0200
TZNAME:CEST
DTSTART:20250330T010000
END:DAYLIGHT
BEGIN:STANDARD
TZOFFSETFROM:+0200
TZOFFSETTO:+0100
TZNAME:CET
DTSTART:20251026T010000
END:STANDARD
BEGIN:DAYLIGHT
TZOFFSETFROM:+0100
TZOFFSETTO:+0200
TZNAME:CEST
DTSTART:20260329T010000
END:DAYLIGHT
BEGIN:STANDARD
TZOFFSETFROM:+0200
TZOFFSETTO:+0100
TZNAME:CET
DTSTART:20261025T010000
END:STANDARD
END:VTIMEZONE
BEGIN:VEVENT
DTSTART;TZID=Europe/Paris:20250402T193000
DTEND;TZID=Europe/Paris:20250402T221500
DTSTAMP:20260425T035033
CREATED:20250304T115646Z
LAST-MODIFIED:20250304T115646Z
UID:24358-1743622200-1743632100@trendjournal.de
SUMMARY:„Im Westen nichts Neues“ – Remarques Antikriegsroman im Theater im Park
DESCRIPTION:Das Münchener A.gon-Theater bringt mit „Im Westen nichts Neues“ die zeitlose Mahnung vor dem Wahnsinn des Krieges auf die Bühne des Theaters im Park. Die Bühnenfassung von Erich Maria Remarques weltberühmtem Antikriegsroman erzählt die erschütternde Geschichte des jungen Soldaten Paul Bäumer\, der sich mit seinen Klassenkameraden voller Patriotismus in den Ersten Weltkrieg begibt – nur um in den Schützengräben die grausame Realität des Krieges zu erleben. \nDie Inszenierung zeigt mit eindrucksvoller Intensität die Brutalität des Kriegsalltags\, den Zusammenhalt der Kameraden und den tiefen Gegensatz zwischen Heimat und Front. Remarques Werk\, das in über 50 Sprachen übersetzt und mehrfach verfilmt wurde\, bleibt eine eindringliche Warnung vor der Sinnlosigkeit des Krieges – und berührt auch heute noch mit seiner erschreckenden Aktualität. \nEin Schauspiel\, das emotional aufwühlt\, zum Nachdenken anregt und die Zuschauer mit seiner Wucht nicht loslässt.
URL:https://trendjournal.de/event/im-westen-nichts-neues-remarques-antikriegsroman-im-theater-im-park/
LOCATION:Theater im Park\, Im Kurpark\, Bad Oeynhausen\, Nordrhein Westfalen\, 32545\, Germany
CATEGORIES:Bad Oeynhausen
ATTACH;FMTTYPE=image/webp:https://trendjournal.de/wp-content/uploads/2025/03/Im-Westen-nichts-Neues.webp
END:VEVENT
END:VCALENDAR